BEGIN:VCALENDAR
VERSION:2.0
PRODID:-//Go Downtown Kenosha - ECPv6.15.20//NONSGML v1.0//EN
CALSCALE:GREGORIAN
METHOD:PUBLISH
X-ORIGINAL-URL:https://godowntownkenosha.com
X-WR-CALDESC:Events for Go Downtown Kenosha
REFRESH-INTERVAL;VALUE=DURATION:PT1H
X-Robots-Tag:noindex
X-PUBLISHED-TTL:PT1H
BEGIN:VTIMEZONE
TZID:America/Chicago
BEGIN:DAYLIGHT
TZOFFSETFROM:-0600
TZOFFSETTO:-0500
TZNAME:CDT
DTSTART:20230312T080000
END:DAYLIGHT
BEGIN:STANDARD
TZOFFSETFROM:-0500
TZOFFSETTO:-0600
TZNAME:CST
DTSTART:20231105T070000
END:STANDARD
BEGIN:DAYLIGHT
TZOFFSETFROM:-0600
TZOFFSETTO:-0500
TZNAME:CDT
DTSTART:20240310T080000
END:DAYLIGHT
BEGIN:STANDARD
TZOFFSETFROM:-0500
TZOFFSETTO:-0600
TZNAME:CST
DTSTART:20241103T070000
END:STANDARD
BEGIN:DAYLIGHT
TZOFFSETFROM:-0600
TZOFFSETTO:-0500
TZNAME:CDT
DTSTART:20250309T080000
END:DAYLIGHT
BEGIN:STANDARD
TZOFFSETFROM:-0500
TZOFFSETTO:-0600
TZNAME:CST
DTSTART:20251102T070000
END:STANDARD
BEGIN:DAYLIGHT
TZOFFSETFROM:-0600
TZOFFSETTO:-0500
TZNAME:CDT
DTSTART:20260308T080000
END:DAYLIGHT
BEGIN:STANDARD
TZOFFSETFROM:-0500
TZOFFSETTO:-0600
TZNAME:CST
DTSTART:20261101T070000
END:STANDARD
END:VTIMEZONE
BEGIN:VEVENT
DTSTART;TZID=America/Chicago:20241129T080000
DTEND;TZID=America/Chicago:20250105T170000
DTSTAMP:20260424T050756
CREATED:20241018T150817Z
LAST-MODIFIED:20241018T151020Z
UID:10015343-1732867200-1736096400@godowntownkenosha.com
SUMMARY:Holiday Train Display
DESCRIPTION:The Holiday Train returns to the Kenosha Public Museum lobby! Visit during regular museum hours to enjoy this festive display of model trains and holiday houses. \nClosed holidays. \nMon.-Sat. 10:00 AM to 05:00 PM\, Sun. 12:00 PM to 05:00 PM
URL:https://godowntownkenosha.com/events/holiday-train-display
LOCATION:Kenosha Public Museum\, 5500 1st Avenue\, Kenosha\, WI\, 53140\, United States
CATEGORIES:Community,Downtown,Entertainment,Kid Friendly
ATTACH;FMTTYPE=image/jpeg:https://godowntownkenosha.com/wp-content/uploads/2024/10/Holiday-Train.jpg
GEO:42.5860994;-87.8135595
X-APPLE-STRUCTURED-LOCATION;VALUE=URI;X-ADDRESS=Kenosha Public Museum 5500 1st Avenue Kenosha WI 53140 United States;X-APPLE-RADIUS=500;X-TITLE=5500 1st Avenue:geo:-87.8135595,42.5860994
END:VEVENT
BEGIN:VEVENT
DTSTART;TZID=America/Chicago:20241218T170000
DTEND;TZID=America/Chicago:20241218T200000
DTSTAMP:20260424T050756
CREATED:20241127T184205Z
LAST-MODIFIED:20241127T184239Z
UID:10015775-1734541200-1734552000@godowntownkenosha.com
SUMMARY:Ladies' Night Out - Downtown Kenosha
DESCRIPTION:Come check off your holiday shopping list! Grab your friends and hit the downtown to shop participating locations with extended hours! Each business will have a promotion for the night\, just for you!!\nParticipating locations include:\nSHOPPING:Authentique GiftsLulu BirdsBlue House BooksBisou LingerieMillie Bo PeepEQUINOX botanical boutique A Summer’s Garden Vintage Underground LatibuleWooden Chair Antiques\nFOOD/DRINKS:Rustic Road BrewingCaptain Mike\nAnd more to come
URL:https://godowntownkenosha.com/events/ladies-night-out-downtown-kenosha
LOCATION:Authentique\, 625 57th Street\, Kenosha\, WI\, 53140\, United States
CATEGORIES:Downtown,Food & Drink,Shopping
ATTACH;FMTTYPE=image/jpeg:https://godowntownkenosha.com/wp-content/uploads/2024/11/468002095_1041654474639534_5164857818984774297_n.jpg
ORGANIZER;CN="Authentique":MAILTO:kimberly@authentiquegifts.com
GEO:42.5839118;-87.8192426
X-APPLE-STRUCTURED-LOCATION;VALUE=URI;X-ADDRESS=Authentique 625 57th Street Kenosha WI 53140 United States;X-APPLE-RADIUS=500;X-TITLE=625 57th Street:geo:-87.8192426,42.5839118
END:VEVENT
BEGIN:VEVENT
DTSTART;TZID=America/Chicago:20241218T180000
DTEND;TZID=America/Chicago:20241218T203000
DTSTAMP:20260424T050756
CREATED:20241023T154051Z
LAST-MODIFIED:20241023T154051Z
UID:10015635-1734544800-1734553800@godowntownkenosha.com
SUMMARY:Hot Cocoa Ber & Mini Sign DIY
DESCRIPTION:DIY your own adorable hot cocoa box and make a winter or Christmas mini sign. Stencil options will be selected upon arrival.  Hot chocolate and snacks will be provided. Get in the holiday spirit with this fun workshop. Pre registration is required LatibuleWisconsin.com
URL:https://godowntownkenosha.com/events/hot-cocoa-ber-mini-sign-diy
LOCATION:Latibule\, 4906 7th Avenue\, Kenosha\, WI\, 53140\, United States
CATEGORIES:Art,Downtown,Entertainment,Kid Friendly,Shopping
ATTACH;FMTTYPE=image/jpeg:https://godowntownkenosha.com/wp-content/uploads/2024/10/Cocoa-Bar.jpg
ORGANIZER;CN="Latibule":MAILTO:latibule.us@gmail.com
GEO:42.5913859;-87.8207688
X-APPLE-STRUCTURED-LOCATION;VALUE=URI;X-ADDRESS=Latibule 4906 7th Avenue Kenosha WI 53140 United States;X-APPLE-RADIUS=500;X-TITLE=4906 7th Avenue:geo:-87.8207688,42.5913859
END:VEVENT
BEGIN:VEVENT
DTSTART;TZID=America/Chicago:20241218T190000
DTEND;TZID=America/Chicago:20241218T210000
DTSTAMP:20260424T050756
CREATED:20241210T160333Z
LAST-MODIFIED:20241210T160539Z
UID:10015800-1734548400-1734555600@godowntownkenosha.com
SUMMARY:Holiday Movies Trivia
DESCRIPTION:Scrooged\, Jingle All The Way\, Christmas Vacation\, Elf\, Home Alone\, Bad Santa\, Die Hard and more … if you look forward to holiday movies each year\, join us for a fun night of trivia! Try to outwit other teams while enjoying a drink and toasting to the holiday season. The top teams will win a prize.
URL:https://godowntownkenosha.com/events/holiday-movies-trivia
LOCATION:Hold My Beer\, 621 56th Street\, Kenosha\, WI\, 53140\, United States
CATEGORIES:Downtown
ATTACH;FMTTYPE=image/webp:https://godowntownkenosha.com/wp-content/uploads/2024/12/87c8b4_8ee6513f01cd404d92ad45423eac63efmv2.jpeg.webp
ORGANIZER;CN="Hold My Beer":MAILTO:info@holdmybeerkenosha.com
GEO:42.5846289;-87.8193849
X-APPLE-STRUCTURED-LOCATION;VALUE=URI;X-ADDRESS=Hold My Beer 621 56th Street Kenosha WI 53140 United States;X-APPLE-RADIUS=500;X-TITLE=621 56th Street:geo:-87.8193849,42.5846289
END:VEVENT
BEGIN:VEVENT
DTSTART;TZID=America/Chicago:20241218T200000
DTEND;TZID=America/Chicago:20241218T220000
DTSTAMP:20260424T050756
CREATED:20240221T173205Z
LAST-MODIFIED:20240221T173430Z
UID:10007430-1734552000-1734559200@godowntownkenosha.com
SUMMARY:Xtreme Bar Bingo at The Boathouse Pub & Eatery
DESCRIPTION:The Grandest Bingo Bounty on the seven seas – Xtreme Bar Bingo! Every Wednesday\, from 8-10PM\, set sail for an evening of salty fun and epic prizes! Nine thrilling games of bingo with chances to plunder the treasure chest with deluxe booty including 50″ TVs. iPads\, designer handbags\, Visa Gift Cards\, and Sporting Event Tickets. The progressive jackpot starts at a cool $3000 and increases every week until it reaches $10\,000! Gather your friends and lucky daubers (no parrots allowed!) and set course for merriment\, and maybe a touch of liquid courage! Featuring D.E.W. and a Brew for only $10. Choose your favorite 16 oz. brew from the selection of Blue Moon\, Modelo\, Spotted Cow\, or Miller Lite and pair it will a shot of Tullamore D.E.W. Irish Whiskey . An unbeatable combination and perfect way to unwind after a long day! \n 
URL:https://godowntownkenosha.com/events/xtreme-bar-bingo-at-the-boathouse-pub-eatery-2/2024-12-18
LOCATION:Boathouse Pub & Eatery\, 4917 7th Avenue\, Kenosha\, WI\, 53140\, United States
CATEGORIES:Dining,Downtown,Entertainment,Food & Drink
ATTACH;FMTTYPE=image/jpeg:https://godowntownkenosha.com/wp-content/uploads/2024/02/Xtreme-Bar-Bingo.jpeg
GEO:42.5911755;-87.8202007
X-APPLE-STRUCTURED-LOCATION;VALUE=URI;X-ADDRESS=Boathouse Pub & Eatery 4917 7th Avenue Kenosha WI 53140 United States;X-APPLE-RADIUS=500;X-TITLE=4917 7th Avenue:geo:-87.8202007,42.5911755
END:VEVENT
END:VCALENDAR