BEGIN:VCALENDAR
VERSION:2.0
PRODID:-//Go Downtown Kenosha - ECPv6.15.20//NONSGML v1.0//EN
CALSCALE:GREGORIAN
METHOD:PUBLISH
X-ORIGINAL-URL:https://godowntownkenosha.com
X-WR-CALDESC:Events for Go Downtown Kenosha
REFRESH-INTERVAL;VALUE=DURATION:PT1H
X-Robots-Tag:noindex
X-PUBLISHED-TTL:PT1H
BEGIN:VTIMEZONE
TZID:America/Chicago
BEGIN:DAYLIGHT
TZOFFSETFROM:-0600
TZOFFSETTO:-0500
TZNAME:CDT
DTSTART:20220313T080000
END:DAYLIGHT
BEGIN:STANDARD
TZOFFSETFROM:-0500
TZOFFSETTO:-0600
TZNAME:CST
DTSTART:20221106T070000
END:STANDARD
BEGIN:DAYLIGHT
TZOFFSETFROM:-0600
TZOFFSETTO:-0500
TZNAME:CDT
DTSTART:20230312T080000
END:DAYLIGHT
BEGIN:STANDARD
TZOFFSETFROM:-0500
TZOFFSETTO:-0600
TZNAME:CST
DTSTART:20231105T070000
END:STANDARD
BEGIN:DAYLIGHT
TZOFFSETFROM:-0600
TZOFFSETTO:-0500
TZNAME:CDT
DTSTART:20240310T080000
END:DAYLIGHT
BEGIN:STANDARD
TZOFFSETFROM:-0500
TZOFFSETTO:-0600
TZNAME:CST
DTSTART:20241103T070000
END:STANDARD
BEGIN:DAYLIGHT
TZOFFSETFROM:-0600
TZOFFSETTO:-0500
TZNAME:CDT
DTSTART:20250309T080000
END:DAYLIGHT
BEGIN:STANDARD
TZOFFSETFROM:-0500
TZOFFSETTO:-0600
TZNAME:CST
DTSTART:20251102T070000
END:STANDARD
END:VTIMEZONE
BEGIN:VEVENT
DTSTART;VALUE=DATE:20230902
DTEND;VALUE=DATE:20240701
DTSTAMP:20260420T090441
CREATED:20230608T181755Z
LAST-MODIFIED:20230608T181755Z
UID:10003705-1693612800-1719791999@godowntownkenosha.com
SUMMARY:Faith in the Fight: Religion and the Civil War
DESCRIPTION:For all of the interest in the American Civil War (1861-1865) one neglected factor as to why the war happened and lasted as long as it did has been the impact of religion and faith on soldiers\, civilians\, and leaders\, both military and political. Even though the Civil War was not a war of religion\, we cannot understand America’s most profound event if we overlook the fact that the conflict was a very religious one. \nReligion and faith were perhaps the greatest social motivators that helped bring about the Civil War\, promoted and encouraged both the abolition and secession movements\, and supported troops in battle and camp.
URL:https://godowntownkenosha.com/events/faith-in-the-fight-religion-and-the-civil-war
LOCATION:Civil War Museum\, 5400 1st Avenue\, Kenosha\, WI\, 53140\, United States
CATEGORIES:Downtown,History
ATTACH;FMTTYPE=image/png:https://godowntownkenosha.com/wp-content/uploads/2023/06/faith.png
GEO:42.5872215;-87.8133044
X-APPLE-STRUCTURED-LOCATION;VALUE=URI;X-ADDRESS=Civil War Museum 5400 1st Avenue Kenosha WI 53140 United States;X-APPLE-RADIUS=500;X-TITLE=5400 1st Avenue:geo:-87.8133044,42.5872215
END:VEVENT
BEGIN:VEVENT
DTSTART;VALUE=DATE:20231106
DTEND;VALUE=DATE:20231107
DTSTAMP:20260420T090441
CREATED:20230522T185001Z
LAST-MODIFIED:20230522T185001Z
UID:10003256-1699228800-1699315199@godowntownkenosha.com
SUMMARY:Planet or Plastic?
DESCRIPTION:“Planet or Plastic?” shines a spotlight on the fragility of the natural environment due to the global plastic waste crisis. The exhibition endeavors to raise awareness of society’s dependence on plastic by visually depicting the crisis through 70 photographs and highlighting the innovative individuals and communities working on solutions to this urgent problem. \nPlanet or Plastic? is developed and traveled by the National Geographic Society.
URL:https://godowntownkenosha.com/events/planet-or-plastic/2023-11-06
LOCATION:Kenosha Public Museum\, 5500 1st Avenue\, Kenosha\, WI\, 53140\, United States
CATEGORIES:Downtown,Entertainment
ATTACH;FMTTYPE=image/png:https://godowntownkenosha.com/wp-content/uploads/2023/05/planet.png
GEO:42.5860994;-87.8135595
X-APPLE-STRUCTURED-LOCATION;VALUE=URI;X-ADDRESS=Kenosha Public Museum 5500 1st Avenue Kenosha WI 53140 United States;X-APPLE-RADIUS=500;X-TITLE=5500 1st Avenue:geo:-87.8135595,42.5860994
END:VEVENT
BEGIN:VEVENT
DTSTART;TZID=America/Chicago:20231106T183000
DTEND;TZID=America/Chicago:20231106T213000
DTSTAMP:20260420T090441
CREATED:20230918T174726Z
LAST-MODIFIED:20230918T174735Z
UID:10005076-1699295400-1699306200@godowntownkenosha.com
SUMMARY:Jeneva Rose and Drew in Kenosha for the release of IT'S A DATE (AGAIN)!
DESCRIPTION:Jeneva Rose is coming back to Kenosha! But this time\, instead of bringing us thrills and chills\, she’s bringing us all the feels with the debut of her first romcom!\nJoining Jeneva is her partner in crime\, Drew! (Although you may know him as the past tense of Draw) \nJoin us for what is sure to be a hilariously fun night at the beautiful\, historic Rhode Theater in Downtown Kenosha! Tickets are required for this event\, so be sure to grab yours fast! \n**Do not choose “pay at pickup” at checkout\, all event tickets must be paid for at the time of registration. Thank you!** \nAbout the book \nPeyton Sanders hopes it’s not too late to say it back. Done with dead-end relationships and swiping right\, she knows who her heart belongs to. But as she races to tell him how she feels\, she’s hit by a car and wakes up with amnesia. It gets worse. Peyton has no clue who the three men who show up at her hospital bed are except they each claim to be her boyfriend. \nThey’re certainly worth remembering. A rustic-looking contractor—heaven in flannel. A tailored consultant with a smile to die for. And a tattooed chef with a box of homemade chocolates\, both delicious. Peyton’s friends Maya and Robbie have an idea: date each man again. Recognizing her soulmate should be as easy as one\, two\, three. \nOn a wildly romantic and dizzyingly funny journey\, Peyton runs once again toward love. This time\, hopefully\, her heart can guide her where her mind cannot. \nAbout Jeneva Rose \nJeneva Rose is the New York Times bestselling author of several novels\, including the million-copy bestselling thriller\, “The Perfect Marriage.” Her work has been translated into more than a dozen languages and optioned for film/tv. Originally from Wisconsin\, she currently lives in Chicago with her husband\, Drew\, and her English bulldog\, Winston.
URL:https://godowntownkenosha.com/events/jeneva-rose-and-drew-in-kenosha-for-the-release-of-its-a-date-again
LOCATION:Rhode Center for the Arts\, 514 56th Street\, Kenosha\, WI\, 53140\, United States
CATEGORIES:Downtown,Entertainment,Shopping
ATTACH;FMTTYPE=image/png:https://godowntownkenosha.com/wp-content/uploads/2023/09/Rose-rectangle-1123.png
ORGANIZER;CN="Blue House Books":MAILTO:events@shopatbhb.com
GEO:42.585251;-87.8180154
X-APPLE-STRUCTURED-LOCATION;VALUE=URI;X-ADDRESS=Rhode Center for the Arts 514 56th Street Kenosha WI 53140 United States;X-APPLE-RADIUS=500;X-TITLE=514 56th Street:geo:-87.8180154,42.585251
END:VEVENT
END:VCALENDAR